
BEGIN:VCALENDAR
VERSION:2.0
PRODID:-//Hudson Valley Fun - ECPv6.15.18//NONSGML v1.0//EN
CALSCALE:GREGORIAN
METHOD:PUBLISH
X-ORIGINAL-URL:https://www.hudsonvalleyfun.com
X-WR-CALDESC:Events for Hudson Valley Fun
REFRESH-INTERVAL;VALUE=DURATION:PT1H
X-Robots-Tag:noindex
X-PUBLISHED-TTL:PT1H
BEGIN:VTIMEZONE
TZID:UTC
BEGIN:STANDARD
TZOFFSETFROM:+0000
TZOFFSETTO:+0000
TZNAME:UTC
DTSTART:20160101T000000
END:STANDARD
END:VTIMEZONE
BEGIN:VEVENT
DTSTART;TZID=UTC:20171109T203000
DTEND;TZID=UTC:20171109T233000
DTSTAMP:20260422T061629
CREATED:20171011T051145Z
LAST-MODIFIED:20171011T051404Z
UID:2959-1510259400-1510270200@www.hudsonvalleyfun.com
SUMMARY:Open Mike at 12 Grapes
DESCRIPTION:OPEN MIKE NIGHT! \nMostly acoustic acts are the style of the evening but most styles of music are welcome to be performed. \nSorry no spoken word or non musical acts. \nAlways a great time to come and listen or sign up and come up for some songs.
URL:https://www.hudsonvalleyfun.com/event/open-mike-12-grapes/
CATEGORIES:Open Mike Event
END:VEVENT
END:VCALENDAR